Package: iPAC Version: 1.36.0 Command: /home/biocbuild/bbs-3.13-bioc/R/bin/R CMD check --install=check:iPAC.install-out.txt --library=/home/biocbuild/bbs-3.13-bioc/R/library --no-vignettes --timings iPAC_1.36.0.tar.gz StartedAt: 2021-10-14 10:17:21 -0400 (Thu, 14 Oct 2021) EndedAt: 2021-10-14 10:20:52 -0400 (Thu, 14 Oct 2021) EllapsedTime: 211.0 seconds RetCode: 0 Status: OK CheckDir: iPAC.Rcheck Warnings: 0