Package: iGC Version: 1.22.0 Command: /home/biocbuild/bbs-3.13-bioc/R/bin/R CMD build --keep-empty-dirs --no-resave-data iGC StartedAt: 2021-10-14 07:30:38 -0400 (Thu, 14 Oct 2021) EndedAt: 2021-10-14 07:31:04 -0400 (Thu, 14 Oct 2021) EllapsedTime: 25.5 seconds RetCode: 0 Status: OK PackageFile: iGC_1.22.0.tar.gz PackageFileSize: 2.95 MiB