Package: iGC Version: 1.22.0 Command: /Library/Frameworks/R.framework/Versions/Current/Resources/bin/R CMD build --keep-empty-dirs --no-resave-data iGC StartedAt: 2021-10-14 12:41:46 -0400 (Thu, 14 Oct 2021) EndedAt: 2021-10-14 12:42:19 -0400 (Thu, 14 Oct 2021) EllapsedTime: 32.7 seconds RetCode: 0 Status: OK PackageFile: iGC_1.22.0.tar.gz PackageFileSize: 2.95 MiB