Package: iClusterPlus Version: 1.28.0 Command: /home/biocbuild/bbs-3.13-bioc/R/bin/R CMD build --keep-empty-dirs --no-resave-data iClusterPlus StartedAt: 2021-10-14 07:30:23 -0400 (Thu, 14 Oct 2021) EndedAt: 2021-10-14 07:30:46 -0400 (Thu, 14 Oct 2021) EllapsedTime: 22.4 seconds RetCode: 0 Status: OK PackageFile: iClusterPlus_1.28.0.tar.gz PackageFileSize: 20.28 MiB