Package: iClusterPlus Version: 1.28.0 Command: /Library/Frameworks/R.framework/Versions/Current/Resources/bin/R CMD build --keep-empty-dirs --no-resave-data iClusterPlus StartedAt: 2021-10-14 12:40:34 -0400 (Thu, 14 Oct 2021) EndedAt: 2021-10-14 12:41:17 -0400 (Thu, 14 Oct 2021) EllapsedTime: 43.1 seconds RetCode: 0 Status: OK PackageFile: iClusterPlus_1.28.0.tar.gz PackageFileSize: 20.28 MiB