Package: iASeq Version: 1.36.0 Command: rm -rf iASeq.buildbin-libdir && mkdir iASeq.buildbin-libdir && /Users/biocbuild/BBS/utils/build-universal.sh iASeq_1.36.0.tar.gz /Library/Frameworks/R.framework/Versions/Current/Resources/bin/R iASeq.buildbin-libdir StartedAt: 2021-10-15 02:45:18 -0400 (Fri, 15 Oct 2021) EndedAt: 2021-10-15 02:46:28 -0400 (Fri, 15 Oct 2021) EllapsedTime: 69.5 seconds RetCode: 0 Status: OK PackageFile: iASeq_1.36.0.tgz PackageFileSize: 200.2 KiB