Package: hypeR Version: 1.8.0 Command: rm -rf hypeR.buildbin-libdir && mkdir hypeR.buildbin-libdir && C:\Users\biocbuild\bbs-3.13-bioc\R\bin\R.exe CMD INSTALL --merge-multiarch --build --library=hypeR.buildbin-libdir hypeR_1.8.0.tar.gz StartedAt: 2021-10-15 09:50:55 -0400 (Fri, 15 Oct 2021) EndedAt: 2021-10-15 09:52:25 -0400 (Fri, 15 Oct 2021) EllapsedTime: 90.6 seconds RetCode: 0 Status: OK PackageFile: hypeR_1.8.0.zip PackageFileSize: 654.2 KiB