git_url: https://git.bioconductor.org/packages/hypeR git_branch: RELEASE_3_13 git_last_commit: 23b7217 git_last_commit_date: 2021-05-19 12:41:30 -0400 (Wed, 19 May 2021) Package: hypeR Version: 1.8.0 Maintainer: Anthony Federico MaintainerEmail: anfed at bu.edu