Package: hummingbird Version: 1.2.0 Command: /Library/Frameworks/R.framework/Versions/Current/Resources/bin/R CMD INSTALL hummingbird StartedAt: 2021-10-14 09:10:56 -0400 (Thu, 14 Oct 2021) EndedAt: 2021-10-14 09:11:43 -0400 (Thu, 14 Oct 2021) EllapsedTime: 47.7 seconds RetCode: 0 Status: OK