Package: hpar Version: 1.34.0 Command: chmod a+r hpar -R && C:\Users\biocbuild\bbs-3.13-bioc\R\bin\R.exe CMD build --keep-empty-dirs --no-resave-data hpar StartedAt: 2021-10-14 14:56:24 -0400 (Thu, 14 Oct 2021) EndedAt: 2021-10-14 14:57:26 -0400 (Thu, 14 Oct 2021) EllapsedTime: 61.6 seconds RetCode: 0 Status: OK PackageFile: hpar_1.34.0.tar.gz PackageFileSize: 12.25 MiB