Package: hipathia Version: 2.8.0 Command: chmod a+r hipathia -R && C:\Users\biocbuild\bbs-3.13-bioc\R\bin\R.exe CMD build --keep-empty-dirs --no-resave-data hipathia StartedAt: 2021-10-14 14:54:18 -0400 (Thu, 14 Oct 2021) EndedAt: 2021-10-14 15:01:18 -0400 (Thu, 14 Oct 2021) EllapsedTime: 420.2 seconds RetCode: 0 Status: OK PackageFile: hipathia_2.8.0.tar.gz PackageFileSize: 6.639 MiB