Package: hipathia Version: 2.8.0 Command: /Library/Frameworks/R.framework/Versions/Current/Resources/bin/R CMD build --keep-empty-dirs --no-resave-data hipathia StartedAt: 2021-10-14 12:36:37 -0400 (Thu, 14 Oct 2021) EndedAt: 2021-10-14 12:44:55 -0400 (Thu, 14 Oct 2021) EllapsedTime: 497.6 seconds RetCode: 0 Status: OK PackageFile: hipathia_2.8.0.tar.gz PackageFileSize: 6.65 MiB