Package: hipathia Version: 2.8.0 Command: rm -rf hipathia.buildbin-libdir && mkdir hipathia.buildbin-libdir && /Users/biocbuild/BBS/utils/build-universal.sh hipathia_2.8.0.tar.gz /Library/Frameworks/R.framework/Versions/Current/Resources/bin/R hipathia.buildbin-libdir StartedAt: 2021-10-15 02:43:30 -0400 (Fri, 15 Oct 2021) EndedAt: 2021-10-15 02:44:41 -0400 (Fri, 15 Oct 2021) EllapsedTime: 70.6 seconds RetCode: 0 Status: OK PackageFile: hipathia_2.8.0.tgz PackageFileSize: 8.313 MiB