Package: hierinf Version: 1.10.0 Command: rm -rf hierinf.buildbin-libdir && mkdir hierinf.buildbin-libdir && C:\Users\biocbuild\bbs-3.13-bioc\R\bin\R.exe CMD INSTALL --merge-multiarch --build --library=hierinf.buildbin-libdir hierinf_1.10.0.tar.gz StartedAt: 2021-10-15 09:48:09 -0400 (Fri, 15 Oct 2021) EndedAt: 2021-10-15 09:49:39 -0400 (Fri, 15 Oct 2021) EllapsedTime: 90.7 seconds RetCode: 0 Status: OK PackageFile: hierinf_1.10.0.zip PackageFileSize: 507.4 KiB