Package: hiReadsProcessor Version: 1.28.0 Command: /home/biocbuild/bbs-3.13-bioc/R/bin/R CMD INSTALL hiReadsProcessor StartedAt: 2021-10-14 06:27:02 -0400 (Thu, 14 Oct 2021) EndedAt: 2021-10-14 06:27:36 -0400 (Thu, 14 Oct 2021) EllapsedTime: 33.7 seconds RetCode: 0 Status: OK