Package: hiReadsProcessor Version: 1.28.0 Command: rm -rf hiReadsProcessor.buildbin-libdir && mkdir hiReadsProcessor.buildbin-libdir && /Users/biocbuild/BBS/utils/build-universal.sh hiReadsProcessor_1.28.0.tar.gz /Library/Frameworks/R.framework/Versions/Current/Resources/bin/R hiReadsProcessor.buildbin-libdir StartedAt: 2021-10-15 02:43:41 -0400 (Fri, 15 Oct 2021) EndedAt: 2021-10-15 02:44:52 -0400 (Fri, 15 Oct 2021) EllapsedTime: 70.5 seconds RetCode: 0 Status: OK PackageFile: hiReadsProcessor_1.28.0.tgz PackageFileSize: 3.004 MiB