git_url: https://git.bioconductor.org/packages/hiReadsProcessor git_branch: RELEASE_3_13 git_last_commit: daa41a6 git_last_commit_date: 2021-05-19 12:07:00 -0400 (Wed, 19 May 2021) Package: hiReadsProcessor Version: 1.28.0 Maintainer: Nirav V Malani MaintainerEmail: malnirav at gmail.com