############################################################################## ############################################################################## ### ### Running command: ### ### C:\cygwin\bin\curl.exe -O http://155.52.207.165/BBS/3.13/bioc/src/contrib/hiAnnotator_1.26.0.tar.gz && rm -rf hiAnnotator.buildbin-libdir && mkdir hiAnnotator.buildbin-libdir && C:\Users\biocbuild\bbs-3.13-bioc\R\bin\R.exe CMD INSTALL --merge-multiarch --build --library=hiAnnotator.buildbin-libdir hiAnnotator_1.26.0.tar.gz && C:\Users\biocbuild\bbs-3.13-bioc\R\bin\R.exe CMD INSTALL hiAnnotator_1.26.0.zip && rm hiAnnotator_1.26.0.tar.gz hiAnnotator_1.26.0.zip ### ############################################################################## ############################################################################## % Total % Received % Xferd Average Speed Time Time Time Current Dload Upload Total Spent Left Speed 0 0 0 0 0 0 0 0 --:--:-- --:--:-- --:--:-- 0 83 790k 83 661k 0 0 1658k 0 --:--:-- --:--:-- --:--:-- 1658k 100 790k 100 790k 0 0 944k 0 --:--:-- --:--:-- --:--:-- 944k install for i386 * installing *source* package 'hiAnnotator' ... ** using staged installation ** R ** data ** byte-compile and prepare package for lazy loading ** help *** installing help indices converting help for package 'hiAnnotator' finding HTML links ... done cleanColname html doAnnotation html dot-checkArgsSetDefaults html dot-mergeAndReturn html genes html get2NearestFeature html getFeatureCounts html getFeatureCountsBig html getLowestDists html getNearestFeature html getRelevantCol html getSitesInFeature html getUCSCtable html finding level-2 HTML links ... done getWindowLabel html hiAnnotator html makeChunks html makeGRanges html makeUCSCsession html plotdisFeature html sites html sites.ctrl html ** building package indices ** installing vignettes ** testing if installed package can be loaded from temporary location ** testing if installed package can be loaded from final location ** testing if installed package keeps a record of temporary installation path install for x64 * installing *source* package 'hiAnnotator' ... ** testing if installed package can be loaded * MD5 sums packaged installation of 'hiAnnotator' as hiAnnotator_1.26.0.zip * DONE (hiAnnotator) * installing to library 'C:/Users/biocbuild/bbs-3.13-bioc/R/library' package 'hiAnnotator' successfully unpacked and MD5 sums checked