Package: hiAnnotator Version: 1.26.0 Command: chmod a+r hiAnnotator -R && C:\Users\biocbuild\bbs-3.13-bioc\R\bin\R.exe CMD build --keep-empty-dirs --no-resave-data hiAnnotator StartedAt: 2021-10-14 14:51:41 -0400 (Thu, 14 Oct 2021) EndedAt: 2021-10-14 14:53:09 -0400 (Thu, 14 Oct 2021) EllapsedTime: 88.8 seconds RetCode: 0 Status: OK PackageFile: hiAnnotator_1.26.0.tar.gz PackageFileSize: 693.7 KiB