Package: h5vc Version: 2.26.1 Command: /home/biocbuild/bbs-3.13-bioc/R/bin/R CMD check --install=check:h5vc.install-out.txt --library=/home/biocbuild/bbs-3.13-bioc/R/library --no-vignettes --timings h5vc_2.26.1.tar.gz StartedAt: 2021-10-14 10:08:35 -0400 (Thu, 14 Oct 2021) EndedAt: 2021-10-14 10:11:51 -0400 (Thu, 14 Oct 2021) EllapsedTime: 195.9 seconds RetCode: 0 Status: WARNINGS CheckDir: h5vc.Rcheck Warnings: 1