Package: h5vc Version: 2.26.1 Command: /home/biocbuild/bbs-3.13-bioc/R/bin/R CMD build --keep-empty-dirs --no-resave-data h5vc StartedAt: 2021-10-14 07:26:48 -0400 (Thu, 14 Oct 2021) EndedAt: 2021-10-14 07:30:47 -0400 (Thu, 14 Oct 2021) EllapsedTime: 238.8 seconds RetCode: 0 Status: OK PackageFile: h5vc_2.26.1.tar.gz PackageFileSize: 1.424 MiB