Package: gwascat Version: 2.24.0 Command: /Library/Frameworks/R.framework/Versions/Current/Resources/bin/R CMD build --keep-empty-dirs --no-resave-data gwascat StartedAt: 2021-10-14 12:30:44 -0400 (Thu, 14 Oct 2021) EndedAt: 2021-10-14 12:34:07 -0400 (Thu, 14 Oct 2021) EllapsedTime: 202.9 seconds RetCode: 0 Status: OK PackageFile: gwascat_2.24.0.tar.gz PackageFileSize: 33.72 MiB