Package: gtrellis Version: 1.24.0 Command: chmod a+r gtrellis -R && C:\Users\biocbuild\bbs-3.13-bioc\R\bin\R.exe CMD build --keep-empty-dirs --no-resave-data gtrellis StartedAt: 2021-10-14 14:44:42 -0400 (Thu, 14 Oct 2021) EndedAt: 2021-10-14 14:48:14 -0400 (Thu, 14 Oct 2021) EllapsedTime: 211.8 seconds RetCode: 0 Status: OK PackageFile: gtrellis_1.24.0.tar.gz PackageFileSize: 1.396 MiB