Package: gtrellis Version: 1.24.0 Command: /home/biocbuild/bbs-3.13-bioc/R/bin/R CMD build --keep-empty-dirs --no-resave-data gtrellis StartedAt: 2021-10-14 07:26:00 -0400 (Thu, 14 Oct 2021) EndedAt: 2021-10-14 07:28:30 -0400 (Thu, 14 Oct 2021) EllapsedTime: 149.4 seconds RetCode: 0 Status: OK PackageFile: gtrellis_1.24.0.tar.gz PackageFileSize: 2.031 MiB