Package: gsean Version: 1.12.0 Command: rm -rf gsean.buildbin-libdir && mkdir gsean.buildbin-libdir && C:\Users\biocbuild\bbs-3.13-bioc\R\bin\R.exe CMD INSTALL --merge-multiarch --build --library=gsean.buildbin-libdir gsean_1.12.0.tar.gz StartedAt: 2021-10-15 09:43:25 -0400 (Fri, 15 Oct 2021) EndedAt: 2021-10-15 09:44:47 -0400 (Fri, 15 Oct 2021) EllapsedTime: 83.0 seconds RetCode: 0 Status: OK PackageFile: gsean_1.12.0.zip PackageFileSize: 1.542 MiB