Package: gsean Version: 1.12.0 Command: /home/biocbuild/bbs-3.13-bioc/R/bin/R CMD check --install=check:gsean.install-out.txt --library=/home/biocbuild/bbs-3.13-bioc/R/library --no-vignettes --timings gsean_1.12.0.tar.gz StartedAt: 2021-10-14 10:06:36 -0400 (Thu, 14 Oct 2021) EndedAt: 2021-10-14 10:09:46 -0400 (Thu, 14 Oct 2021) EllapsedTime: 190.1 seconds RetCode: 0 Status: OK CheckDir: gsean.Rcheck Warnings: 0