Package: graphite Version: 1.38.0 Command: /Library/Frameworks/R.framework/Versions/Current/Resources/bin/R CMD INSTALL graphite StartedAt: 2021-10-14 08:42:34 -0400 (Thu, 14 Oct 2021) EndedAt: 2021-10-14 08:43:31 -0400 (Thu, 14 Oct 2021) EllapsedTime: 57.7 seconds RetCode: 0 Status: OK