Package: graphite Version: 1.38.0 Command: /Library/Frameworks/R.framework/Versions/Current/Resources/bin/R CMD build --keep-empty-dirs --no-resave-data graphite StartedAt: 2021-10-14 12:26:11 -0400 (Thu, 14 Oct 2021) EndedAt: 2021-10-14 12:27:40 -0400 (Thu, 14 Oct 2021) EllapsedTime: 88.1 seconds RetCode: 0 Status: OK PackageFile: graphite_1.38.0.tar.gz PackageFileSize: 761.3 KiB