Package: graphite Version: 1.38.0 Command: rm -rf graphite.buildbin-libdir && mkdir graphite.buildbin-libdir && /Users/biocbuild/BBS/utils/build-universal.sh graphite_1.38.0.tar.gz /Library/Frameworks/R.framework/Versions/Current/Resources/bin/R graphite.buildbin-libdir StartedAt: 2021-10-15 02:39:00 -0400 (Fri, 15 Oct 2021) EndedAt: 2021-10-15 02:39:58 -0400 (Fri, 15 Oct 2021) EllapsedTime: 57.6 seconds RetCode: 0 Status: OK PackageFile: graphite_1.38.0.tgz PackageFileSize: 893.5 KiB