Package: graph Version: 1.70.0 Command: C:\cygwin\bin\curl.exe -O http://155.52.207.165/BBS/3.13/bioc/src/contrib/graph_1.70.0.tar.gz && rm -rf graph.buildbin-libdir && mkdir graph.buildbin-libdir && C:\Users\biocbuild\bbs-3.13-bioc\R\bin\R.exe CMD INSTALL --merge-multiarch --build --library=graph.buildbin-libdir graph_1.70.0.tar.gz && C:\Users\biocbuild\bbs-3.13-bioc\R\bin\R.exe CMD INSTALL graph_1.70.0.zip && rm graph_1.70.0.tar.gz graph_1.70.0.zip StartedAt: 2021-10-14 07:24:20 -0400 (Thu, 14 Oct 2021) EndedAt: 2021-10-14 07:27:38 -0400 (Thu, 14 Oct 2021) EllapsedTime: 197.7 seconds RetCode: 0 Status: OK