Package: gpuMagic Version: 1.8.0 Command: C:\cygwin\bin\curl.exe -O http://155.52.207.165/BBS/3.13/bioc/src/contrib/gpuMagic_1.8.0.tar.gz && rm -rf gpuMagic.buildbin-libdir && mkdir gpuMagic.buildbin-libdir && C:\Users\biocbuild\bbs-3.13-bioc\R\bin\R.exe CMD INSTALL --merge-multiarch --build --library=gpuMagic.buildbin-libdir gpuMagic_1.8.0.tar.gz && C:\Users\biocbuild\bbs-3.13-bioc\R\bin\R.exe CMD INSTALL gpuMagic_1.8.0.zip && rm gpuMagic_1.8.0.tar.gz gpuMagic_1.8.0.zip StartedAt: 2021-10-14 08:17:28 -0400 (Thu, 14 Oct 2021) EndedAt: 2021-10-14 08:19:27 -0400 (Thu, 14 Oct 2021) EllapsedTime: 119.2 seconds RetCode: 0 Status: OK