Package: gprege Version: 1.36.0 Command: C:\cygwin\bin\curl.exe -O http://155.52.207.165/BBS/3.13/bioc/src/contrib/gprege_1.36.0.tar.gz && rm -rf gprege.buildbin-libdir && mkdir gprege.buildbin-libdir && C:\Users\biocbuild\bbs-3.13-bioc\R\bin\R.exe CMD INSTALL --merge-multiarch --build --library=gprege.buildbin-libdir gprege_1.36.0.tar.gz && C:\Users\biocbuild\bbs-3.13-bioc\R\bin\R.exe CMD INSTALL gprege_1.36.0.zip && rm gprege_1.36.0.tar.gz gprege_1.36.0.zip StartedAt: 2021-10-14 08:30:11 -0400 (Thu, 14 Oct 2021) EndedAt: 2021-10-14 08:31:07 -0400 (Thu, 14 Oct 2021) EllapsedTime: 56.0 seconds RetCode: 0 Status: OK