Package: gprege Version: 1.36.0 Command: chmod a+r gprege -R && C:\Users\biocbuild\bbs-3.13-bioc\R\bin\R.exe CMD build --keep-empty-dirs --no-resave-data gprege StartedAt: 2021-10-14 14:38:43 -0400 (Thu, 14 Oct 2021) EndedAt: 2021-10-14 14:39:18 -0400 (Thu, 14 Oct 2021) EllapsedTime: 34.4 seconds RetCode: 0 Status: OK PackageFile: gprege_1.36.0.tar.gz PackageFileSize: 3.204 MiB