Package: gprege Version: 1.36.0 Command: /Library/Frameworks/R.framework/Versions/Current/Resources/bin/R CMD check --install=check:gprege.install-out.txt --library=/Library/Frameworks/R.framework/Versions/Current/Resources/library --no-vignettes --timings gprege_1.36.0.tar.gz StartedAt: 2021-10-14 19:44:49 -0400 (Thu, 14 Oct 2021) EndedAt: 2021-10-14 19:46:42 -0400 (Thu, 14 Oct 2021) EllapsedTime: 113.8 seconds RetCode: 0 Status: OK CheckDir: gprege.Rcheck Warnings: 0