Package: gprege Version: 1.36.0 Command: rm -rf gprege.buildbin-libdir && mkdir gprege.buildbin-libdir && /Users/biocbuild/BBS/utils/build-universal.sh gprege_1.36.0.tar.gz /Library/Frameworks/R.framework/Versions/Current/Resources/bin/R gprege.buildbin-libdir StartedAt: 2021-10-15 02:38:23 -0400 (Fri, 15 Oct 2021) EndedAt: 2021-10-15 02:39:21 -0400 (Fri, 15 Oct 2021) EllapsedTime: 57.8 seconds RetCode: 0 Status: OK PackageFile: gprege_1.36.0.tgz PackageFileSize: 3.239 MiB