git_url: https://git.bioconductor.org/packages/gprege git_branch: RELEASE_3_13 git_last_commit: 3db6999 git_last_commit_date: 2021-05-19 11:51:52 -0400 (Wed, 19 May 2021) Package: gprege Version: 1.36.0 Maintainer: Alfredo Kalaitzis MaintainerEmail: alkalait at gmail.com