Package: goTools Version: 1.66.0 Command: /home/biocbuild/bbs-3.13-bioc/R/bin/R CMD INSTALL goTools StartedAt: 2021-10-14 06:09:16 -0400 (Thu, 14 Oct 2021) EndedAt: 2021-10-14 06:09:28 -0400 (Thu, 14 Oct 2021) EllapsedTime: 11.5 seconds RetCode: 0 Status: OK