Package: goTools
Version: 1.66.0
Command: /Library/Frameworks/R.framework/Versions/Current/Resources/bin/R CMD INSTALL goTools
StartedAt: 2021-10-14 08:43:39 -0400 (Thu, 14 Oct 2021)
EndedAt: 2021-10-14 08:44:37 -0400 (Thu, 14 Oct 2021)
EllapsedTime: 58.1 seconds
RetCode: 0
Status: OK