Package: goTools Version: 1.66.0 Command: rm -rf goTools.buildbin-libdir && mkdir goTools.buildbin-libdir && /Users/biocbuild/BBS/utils/build-universal.sh goTools_1.66.0.tar.gz /Library/Frameworks/R.framework/Versions/Current/Resources/bin/R goTools.buildbin-libdir StartedAt: 2021-10-15 02:38:02 -0400 (Fri, 15 Oct 2021) EndedAt: 2021-10-15 02:39:00 -0400 (Fri, 15 Oct 2021) EllapsedTime: 58.4 seconds RetCode: 0 Status: OK PackageFile: goTools_1.66.0.tgz PackageFileSize: 154.3 KiB