Package: goProfiles Version: 1.54.0 Command: /home/biocbuild/bbs-3.13-bioc/R/bin/R CMD INSTALL goProfiles StartedAt: 2021-10-14 06:10:09 -0400 (Thu, 14 Oct 2021) EndedAt: 2021-10-14 06:10:22 -0400 (Thu, 14 Oct 2021) EllapsedTime: 13.0 seconds RetCode: 0 Status: OK