Package: gmapR Version: 1.34.0 Command: /home/biocbuild/bbs-3.13-bioc/R/bin/R CMD INSTALL gmapR StartedAt: 2021-10-14 06:26:20 -0400 (Thu, 14 Oct 2021) EndedAt: 2021-10-14 06:32:36 -0400 (Thu, 14 Oct 2021) EllapsedTime: 376.6 seconds RetCode: 0 Status: OK