Package: ggtreeExtra Version: 1.2.3 Command: C:\cygwin\bin\curl.exe -O http://155.52.207.165/BBS/3.13/bioc/src/contrib/ggtreeExtra_1.2.3.tar.gz && rm -rf ggtreeExtra.buildbin-libdir && mkdir ggtreeExtra.buildbin-libdir && C:\Users\biocbuild\bbs-3.13-bioc\R\bin\R.exe CMD INSTALL --merge-multiarch --build --library=ggtreeExtra.buildbin-libdir ggtreeExtra_1.2.3.tar.gz && C:\Users\biocbuild\bbs-3.13-bioc\R\bin\R.exe CMD INSTALL ggtreeExtra_1.2.3.zip && rm ggtreeExtra_1.2.3.tar.gz ggtreeExtra_1.2.3.zip StartedAt: 2021-10-14 09:37:09 -0400 (Thu, 14 Oct 2021) EndedAt: 2021-10-14 09:37:41 -0400 (Thu, 14 Oct 2021) EllapsedTime: 31.7 seconds RetCode: 0 Status: OK