Package: ggtreeExtra Version: 1.2.3 Command: /home/biocbuild/bbs-3.13-bioc/R/bin/R CMD check --install=check:ggtreeExtra.install-out.txt --library=/home/biocbuild/bbs-3.13-bioc/R/library --no-vignettes --timings ggtreeExtra_1.2.3.tar.gz StartedAt: 2021-10-14 10:01:05 -0400 (Thu, 14 Oct 2021) EndedAt: 2021-10-14 10:01:44 -0400 (Thu, 14 Oct 2021) EllapsedTime: 39.5 seconds RetCode: 0 Status: OK CheckDir: ggtreeExtra.Rcheck Warnings: 0