Package: ggtreeExtra Version: 1.2.3 Command: /Library/Frameworks/R.framework/Versions/Current/Resources/bin/R CMD build --keep-empty-dirs --no-resave-data ggtreeExtra StartedAt: 2021-10-14 12:19:07 -0400 (Thu, 14 Oct 2021) EndedAt: 2021-10-14 12:19:41 -0400 (Thu, 14 Oct 2021) EllapsedTime: 34.7 seconds RetCode: 0 Status: OK PackageFile: ggtreeExtra_1.2.3.tar.gz PackageFileSize: 519.5 KiB