Package: ggtreeExtra Version: 1.2.3 Command: rm -rf ggtreeExtra.buildbin-libdir && mkdir ggtreeExtra.buildbin-libdir && /Users/biocbuild/BBS/utils/build-universal.sh ggtreeExtra_1.2.3.tar.gz /Library/Frameworks/R.framework/Versions/Current/Resources/bin/R ggtreeExtra.buildbin-libdir StartedAt: 2021-10-15 02:35:31 -0400 (Fri, 15 Oct 2021) EndedAt: 2021-10-15 02:36:41 -0400 (Fri, 15 Oct 2021) EllapsedTime: 69.8 seconds RetCode: 0 Status: OK PackageFile: ggtreeExtra_1.2.3.tgz PackageFileSize: 645.1 KiB