Package: geva Version: 1.0.0 Command: C:\cygwin\bin\curl.exe -O http://155.52.207.165/BBS/3.13/bioc/src/contrib/geva_1.0.0.tar.gz && rm -rf geva.buildbin-libdir && mkdir geva.buildbin-libdir && C:\Users\biocbuild\bbs-3.13-bioc\R\bin\R.exe CMD INSTALL --merge-multiarch --build --library=geva.buildbin-libdir geva_1.0.0.tar.gz && C:\Users\biocbuild\bbs-3.13-bioc\R\bin\R.exe CMD INSTALL geva_1.0.0.zip && rm geva_1.0.0.tar.gz geva_1.0.0.zip StartedAt: 2021-10-14 07:02:31 -0400 (Thu, 14 Oct 2021) EndedAt: 2021-10-14 07:04:03 -0400 (Thu, 14 Oct 2021) EllapsedTime: 92.5 seconds RetCode: 0 Status: OK