Package: geva Version: 1.0.0 Command: chmod a+r geva -R && C:\Users\biocbuild\bbs-3.13-bioc\R\bin\R.exe CMD build --keep-empty-dirs --no-resave-data geva StartedAt: 2021-10-14 14:30:44 -0400 (Thu, 14 Oct 2021) EndedAt: 2021-10-14 14:34:16 -0400 (Thu, 14 Oct 2021) EllapsedTime: 211.5 seconds RetCode: 0 Status: OK PackageFile: geva_1.0.0.tar.gz PackageFileSize: 999.3 KiB