Package: getDEE2 Version: 1.2.0 Command: /home/biocbuild/bbs-3.13-bioc/R/bin/R CMD INSTALL getDEE2 StartedAt: 2021-10-14 06:15:18 -0400 (Thu, 14 Oct 2021) EndedAt: 2021-10-14 06:15:34 -0400 (Thu, 14 Oct 2021) EllapsedTime: 16.0 seconds RetCode: 0 Status: OK