Package: getDEE2 Version: 1.2.0 Command: /home/biocbuild/bbs-3.13-bioc/R/bin/R CMD build --keep-empty-dirs --no-resave-data getDEE2 StartedAt: 2021-10-14 07:21:43 -0400 (Thu, 14 Oct 2021) EndedAt: 2021-10-14 07:23:19 -0400 (Thu, 14 Oct 2021) EllapsedTime: 96.1 seconds RetCode: 0 Status: OK PackageFile: getDEE2_1.2.0.tar.gz PackageFileSize: 20.88 KiB