git_url: https://git.bioconductor.org/packages/genotypeeval git_branch: RELEASE_3_13 git_last_commit: ddb6801 git_last_commit_date: 2021-05-19 12:14:37 -0400 (Wed, 19 May 2021) Package: genotypeeval Version: 1.24.0 Maintainer: Jennifer Tom MaintainerEmail: tom.jennifer at gene.com